BEGIN:VCALENDAR
PRODID:-//eluceo/ical//2.0/EN
VERSION:2.0
CALSCALE:GREGORIAN
BEGIN:VEVENT
UID:be19219083248e4787d6927a10a65d2a
DTSTAMP:20260423T100415Z
SUMMARY:Annual Business Meeting
DESCRIPTION:Jewish Federation of Macon and Middle Georgia\nCommunity Calend
 ar\nhttps://jewishmacon.org/community-calendar/annual-business-meeting-201
 7\n\nOur By-Laws require an annual business meeting. This year’s will be
  held at 6:30 pm at Temple Beth Israel\, March 30\, 2017.\n\nThe agenda wi
 ll include:\n\n\nInvocation\nMoment of Silence for those who have passed\n
 Minutes of last year's meeting\nCampaign Committee report\nTransients Comm
 ittee report\nLocal Distress Committee report\nNominating Committee report
 \nOld business\nNew business\nGood and welfare\nBenediction\n\n\nAll are w
 elcome to attend\, ask questions\, and participate....
DTSTART;TZID=America/New_York:20170330T183000
DTEND;TZID=America/New_York:20170330T203000
END:VEVENT
END:VCALENDAR
