BEGIN:VCALENDAR
PRODID:-//eluceo/ical//2.0/EN
VERSION:2.0
CALSCALE:GREGORIAN
BEGIN:VEVENT
UID:84ca026f971cf4a8120dc6aa68ca6105
DTSTAMP:20260422T091531Z
SUMMARY:Federation Shabbat Dinner  featuring Speaker Jeff Goldman
DESCRIPTION:Jewish Federation of Macon and Middle Georgia\nCommunity Calend
 ar\nhttps://jewishmacon.org/community-calendar/federation-shabbat-dinner\n
 \nJeff Scott Goldman is an Emmy award winning Producer and Reporter for CB
 S News and the PBS NewsHour. Until recently\, Jeff worked at the White Hou
 se covering 6 Presidents over the past 34 years. In that role he traveled 
 the world aboard Air Force One with Presidents Ronald Reagan\, George H.W.
  Bush\, Bill Clinton\, George W. Bush\, Barack Obama and the beginning of 
 the Donald Trump Presidency.\n  \n\nMr. Goldman has been an eyewitness t
 o the major historical events.  He has covered 6 wars and m...
DTSTART;TZID=America/New_York:20180323T180000
DTEND;TZID=America/New_York:20180323T200000
END:VEVENT
END:VCALENDAR
