BEGIN:VCALENDAR
PRODID:-//eluceo/ical//2.0/EN
VERSION:2.0
CALSCALE:GREGORIAN
BEGIN:VEVENT
UID:7dfccd136158e696981070f822013a0c
DTSTAMP:20260423T051314Z
SUMMARY:EVENT CANCELLED Israeli Cafe Fundraiser
DESCRIPTION:Jewish Federation of Macon and Middle Georgia\nCommunity Calend
 ar\nhttps://jewishmacon.org/community-calendar/israeli-cafe-fundraiser\n\n
 UPDATED 04/20/2018: Unfortunately\, the Neve Michael fundraiser\, "Israeli
  Cafe\," has had to be cancelled. We apologize for any inconvenience. All 
 tickets purchased for the event will be refunded.\n\nNeve Michael truly is
  a haven\, serving at-risk children ages 5-18 years old from all over Isra
 el. nevemichael.com\n\n\n\nBen Goldstein\n\nBen Goldstein is a passionate 
 supporter of Israel and the IDF. He directs the Machanayim Charity in Isra
 el which supplies IDF Soldiers with many items that t...
DTSTART;TZID=America/New_York:20180506T190000
DTEND;TZID=America/New_York:20180506T210000
END:VEVENT
END:VCALENDAR
