BEGIN:VCALENDAR
PRODID:-//eluceo/ical//2.0/EN
VERSION:2.0
CALSCALE:GREGORIAN
BEGIN:VEVENT
UID:749d691788278e657af629d31fef1649
DTSTAMP:20260423T024018Z
SUMMARY:Jewish Federation of Macon & Middle Georgia Annual Business Meeting
DESCRIPTION:Jewish Federation of Macon and Middle Georgia\nCommunity Calend
 ar\nhttps://jewishmacon.org/community-calendar/jewish-federation-of-macon-
 middle-georgia-annual-business-meeting\n\nFederation Annual Business Meeti
 ng
DTSTART;TZID=America/New_York:20180322T183000
DTEND;TZID=America/New_York:20180322T203000
END:VEVENT
END:VCALENDAR
