BEGIN:VCALENDAR
PRODID:-//eluceo/ical//2.0/EN
VERSION:2.0
CALSCALE:GREGORIAN
BEGIN:VEVENT
UID:aa80f206bd7f47c9035d852b2818e991
DTSTAMP:20260422T092801Z
SUMMARY:Rosh Hashanah Event - Temple Beth Israel
DESCRIPTION:Jewish Federation of Macon and Middle Georgia\nCommunity Calend
 ar\nhttps://jewishmacon.org/community-calendar/rosh-hashanah-event-temple-
 beth-israel\n\nSaturday Sept 9 between 4-6 pm there is a PJ Library event 
 at Temple Beth Israel about Rosh Hashanah. Please contact Andi Biron for m
 ore information andibiron@yahoo.com.
DTSTART;TZID=America/New_York:20170909T160000
DTEND;TZID=America/New_York:20170909T180000
END:VEVENT
END:VCALENDAR
