BEGIN:VCALENDAR
PRODID:-//eluceo/ical//2.0/EN
VERSION:2.0
CALSCALE:GREGORIAN
BEGIN:VEVENT
UID:b3a0ec139f41da9fe792640edcfe3d54
DTSTAMP:20260423T025444Z
SUMMARY:Temple Beth Israel - Women's Interfaith Alliance Meeting
DESCRIPTION:Jewish Federation of Macon and Middle Georgia\nCommunity Calend
 ar\nhttps://jewishmacon.org/community-calendar/womens-interfaith-meeting\n
 \nLocation: Temple Beth Israel
DTSTART;TZID=America/New_York:20170911T120000
DTEND;TZID=America/New_York:20170911T140000
END:VEVENT
END:VCALENDAR
